BEGIN:VCALENDAR
VERSION:2.0
PRODID:-//OGV Mötzingen - ECPv6.15.20//NONSGML v1.0//EN
CALSCALE:GREGORIAN
METHOD:PUBLISH
X-WR-CALNAME:OGV Mötzingen
X-ORIGINAL-URL:https://www.ogv-moetzingen.de/ogv
X-WR-CALDESC:Veranstaltungen für OGV Mötzingen
REFRESH-INTERVAL;VALUE=DURATION:PT1H
X-Robots-Tag:noindex
X-PUBLISHED-TTL:PT1H
BEGIN:VTIMEZONE
TZID:Europe/Berlin
BEGIN:DAYLIGHT
TZOFFSETFROM:+0100
TZOFFSETTO:+0200
TZNAME:CEST
DTSTART:20230326T010000
END:DAYLIGHT
BEGIN:STANDARD
TZOFFSETFROM:+0200
TZOFFSETTO:+0100
TZNAME:CET
DTSTART:20231029T010000
END:STANDARD
BEGIN:DAYLIGHT
TZOFFSETFROM:+0100
TZOFFSETTO:+0200
TZNAME:CEST
DTSTART:20240331T010000
END:DAYLIGHT
BEGIN:STANDARD
TZOFFSETFROM:+0200
TZOFFSETTO:+0100
TZNAME:CET
DTSTART:20241027T010000
END:STANDARD
BEGIN:DAYLIGHT
TZOFFSETFROM:+0100
TZOFFSETTO:+0200
TZNAME:CEST
DTSTART:20250330T010000
END:DAYLIGHT
BEGIN:STANDARD
TZOFFSETFROM:+0200
TZOFFSETTO:+0100
TZNAME:CET
DTSTART:20251026T010000
END:STANDARD
END:VTIMEZONE
BEGIN:VEVENT
DTSTART;TZID=Europe/Berlin:20240301T193000
DTEND;TZID=Europe/Berlin:20240301T213000
DTSTAMP:20260422T032509
CREATED:20231228T100608Z
LAST-MODIFIED:20240223T123643Z
UID:1719-1709321400-1709328600@www.ogv-moetzingen.de
SUMMARY:Jahreshauptversammlung
DESCRIPTION:Unsere 15. Jahreshauptversammlung findet\nam Freitag den 1. März um 19.30 Uhr im Gasthaus zum Hirsch in Mötzingen statt.\n\nTagesordnung: \n\n1. Begrüßung und Bekanntgabe der Tagesordnung\n\n2. Berichte\n\n1. Vorsitzender\nSchriftführer\nKassier\nKassenprüfer\n\n3. Entlastungen\n4. Ehrungen\n\n5. Wahlen\n\n2. Vorsitzender\nBeisitzer\n\n6. Verschiedenes\n\n7. Anträge und Wünsche\n\n8. Vorschau auf 2023\n\nIm Anschluss gibt es einen Vortrag von Gisela Büsing zum Thema Gedanken zur Garten und Obstwiesen Bewirtschaftung.
URL:https://www.ogv-moetzingen.de/ogv/event/jahreshauptversammlung/
LOCATION:Gasthaus Hirsch
END:VEVENT
END:VCALENDAR