BEGIN:VCALENDAR
VERSION:2.0
PRODID:-//OGV Mötzingen - ECPv6.15.20//NONSGML v1.0//EN
CALSCALE:GREGORIAN
METHOD:PUBLISH
X-ORIGINAL-URL:https://www.ogv-moetzingen.de/ogv
X-WR-CALDESC:Veranstaltungen für OGV Mötzingen
REFRESH-INTERVAL;VALUE=DURATION:PT1H
X-Robots-Tag:noindex
X-PUBLISHED-TTL:PT1H
BEGIN:VTIMEZONE
TZID:Europe/Berlin
BEGIN:DAYLIGHT
TZOFFSETFROM:+0100
TZOFFSETTO:+0200
TZNAME:CEST
DTSTART:20240331T010000
END:DAYLIGHT
BEGIN:STANDARD
TZOFFSETFROM:+0200
TZOFFSETTO:+0100
TZNAME:CET
DTSTART:20241027T010000
END:STANDARD
BEGIN:DAYLIGHT
TZOFFSETFROM:+0100
TZOFFSETTO:+0200
TZNAME:CEST
DTSTART:20250330T010000
END:DAYLIGHT
BEGIN:STANDARD
TZOFFSETFROM:+0200
TZOFFSETTO:+0100
TZNAME:CET
DTSTART:20251026T010000
END:STANDARD
BEGIN:DAYLIGHT
TZOFFSETFROM:+0100
TZOFFSETTO:+0200
TZNAME:CEST
DTSTART:20260329T010000
END:DAYLIGHT
BEGIN:STANDARD
TZOFFSETFROM:+0200
TZOFFSETTO:+0100
TZNAME:CET
DTSTART:20261025T010000
END:STANDARD
END:VTIMEZONE
BEGIN:VEVENT
DTSTART;TZID=Europe/Berlin:20250822T170000
DTEND;TZID=Europe/Berlin:20250822T170000
DTSTAMP:20260420T002633
CREATED:20250206T060428Z
LAST-MODIFIED:20250816T103134Z
UID:2089-1755882000-1755882000@www.ogv-moetzingen.de
SUMMARY:Vorerntebesichtigung am 22. August
DESCRIPTION:Liebe Mitglieder und Freunde des Vereins\,\n\nam 22. August findet unsere Vorerntebesichtigung statt.\nDabei wollen wir mit Euch gemeinsam durch die Mötzinger Streuobstwiesen ziehen und die Bestände ansehen.\n\nBeginn: 17 Uhr\n\nTreffpunkt: Parkplatz Sportplatz\n\nIm Anschluss an die kleine Wanderung wollen den Abend mit Euch gemeinsam mit kühlen Getränken und einer Roten vom Grill ausklingen lassen.
URL:https://www.ogv-moetzingen.de/ogv/event/vorerntebesichtigung-am-22-august/
END:VEVENT
END:VCALENDAR