BEGIN:VCALENDAR
VERSION:2.0
PRODID:-//OGV Mötzingen - ECPv6.15.20//NONSGML v1.0//EN
CALSCALE:GREGORIAN
METHOD:PUBLISH
X-ORIGINAL-URL:https://www.ogv-moetzingen.de/ogv
X-WR-CALDESC:Veranstaltungen für OGV Mötzingen
REFRESH-INTERVAL;VALUE=DURATION:PT1H
X-Robots-Tag:noindex
X-PUBLISHED-TTL:PT1H
BEGIN:VTIMEZONE
TZID:Europe/Berlin
BEGIN:DAYLIGHT
TZOFFSETFROM:+0100
TZOFFSETTO:+0200
TZNAME:CEST
DTSTART:20240331T010000
END:DAYLIGHT
BEGIN:STANDARD
TZOFFSETFROM:+0200
TZOFFSETTO:+0100
TZNAME:CET
DTSTART:20241027T010000
END:STANDARD
BEGIN:DAYLIGHT
TZOFFSETFROM:+0100
TZOFFSETTO:+0200
TZNAME:CEST
DTSTART:20250330T010000
END:DAYLIGHT
BEGIN:STANDARD
TZOFFSETFROM:+0200
TZOFFSETTO:+0100
TZNAME:CET
DTSTART:20251026T010000
END:STANDARD
BEGIN:DAYLIGHT
TZOFFSETFROM:+0100
TZOFFSETTO:+0200
TZNAME:CEST
DTSTART:20260329T010000
END:DAYLIGHT
BEGIN:STANDARD
TZOFFSETFROM:+0200
TZOFFSETTO:+0100
TZNAME:CET
DTSTART:20261025T010000
END:STANDARD
END:VTIMEZONE
BEGIN:VEVENT
DTSTART;TZID=Europe/Berlin:20251115T080000
DTEND;TZID=Europe/Berlin:20251115T170000
DTSTAMP:20260419T204448
CREATED:20250609T075054Z
LAST-MODIFIED:20250801T114459Z
UID:2140-1763193600-1763226000@www.ogv-moetzingen.de
SUMMARY:Ausflug zu SÜDZUCKER
DESCRIPTION:Liebe Mitglieder\,\n\nblockt Euch jetzt schon mal den 15. November in Eurem Terminkalender!\nHier findet ihr alle Infos und wie ihr euch anmelden könnt!
URL:https://www.ogv-moetzingen.de/ogv/event/ausflug-zu-suedzucker/
END:VEVENT
END:VCALENDAR