BEGIN:VCALENDAR
VERSION:2.0
PRODID:-//OGV Mötzingen - ECPv6.15.20//NONSGML v1.0//EN
CALSCALE:GREGORIAN
METHOD:PUBLISH
X-WR-CALNAME:OGV Mötzingen
X-ORIGINAL-URL:https://www.ogv-moetzingen.de/ogv
X-WR-CALDESC:Veranstaltungen für OGV Mötzingen
REFRESH-INTERVAL;VALUE=DURATION:PT1H
X-Robots-Tag:noindex
X-PUBLISHED-TTL:PT1H
BEGIN:VTIMEZONE
TZID:Europe/Berlin
BEGIN:DAYLIGHT
TZOFFSETFROM:+0100
TZOFFSETTO:+0200
TZNAME:CEST
DTSTART:20230326T010000
END:DAYLIGHT
BEGIN:STANDARD
TZOFFSETFROM:+0200
TZOFFSETTO:+0100
TZNAME:CET
DTSTART:20231029T010000
END:STANDARD
BEGIN:DAYLIGHT
TZOFFSETFROM:+0100
TZOFFSETTO:+0200
TZNAME:CEST
DTSTART:20240331T010000
END:DAYLIGHT
BEGIN:STANDARD
TZOFFSETFROM:+0200
TZOFFSETTO:+0100
TZNAME:CET
DTSTART:20241027T010000
END:STANDARD
BEGIN:DAYLIGHT
TZOFFSETFROM:+0100
TZOFFSETTO:+0200
TZNAME:CEST
DTSTART:20250330T010000
END:DAYLIGHT
BEGIN:STANDARD
TZOFFSETFROM:+0200
TZOFFSETTO:+0100
TZNAME:CET
DTSTART:20251026T010000
END:STANDARD
END:VTIMEZONE
BEGIN:VEVENT
DTSTART;TZID=Europe/Berlin:20240224T140000
DTEND;TZID=Europe/Berlin:20240224T170000
DTSTAMP:20260422T033255
CREATED:20231228T092407Z
LAST-MODIFIED:20240223T123519Z
UID:1709-1708783200-1708794000@www.ogv-moetzingen.de
SUMMARY:Schnittkurs am Obstbaum
DESCRIPTION:Schnittkurs am Obstbaum mit Ralph Reuschling \nBeginn ist um 14:00 Uhr im Vereinsgarten (alte Kläranlage). \nDie Schnittkurse sind für Mitglieder wie gehabt kostenlos und für das leibliche Wohl ist bestens gesorgt.\nAnmeldungen werden im Voraus keine benötigt.
URL:https://www.ogv-moetzingen.de/ogv/event/schnittkurs-mit-ralph-reuschling/
LOCATION:OGV Vereinsgarten
END:VEVENT
END:VCALENDAR