BEGIN:VCALENDAR
VERSION:2.0
PRODID:-//OGV Mötzingen - ECPv6.15.20//NONSGML v1.0//EN
CALSCALE:GREGORIAN
METHOD:PUBLISH
X-ORIGINAL-URL:https://www.ogv-moetzingen.de/ogv
X-WR-CALDESC:Veranstaltungen für OGV Mötzingen
REFRESH-INTERVAL;VALUE=DURATION:PT1H
X-Robots-Tag:noindex
X-PUBLISHED-TTL:PT1H
BEGIN:VTIMEZONE
TZID:Europe/Berlin
BEGIN:DAYLIGHT
TZOFFSETFROM:+0100
TZOFFSETTO:+0200
TZNAME:CEST
DTSTART:20230326T010000
END:DAYLIGHT
BEGIN:STANDARD
TZOFFSETFROM:+0200
TZOFFSETTO:+0100
TZNAME:CET
DTSTART:20231029T010000
END:STANDARD
BEGIN:DAYLIGHT
TZOFFSETFROM:+0100
TZOFFSETTO:+0200
TZNAME:CEST
DTSTART:20240331T010000
END:DAYLIGHT
BEGIN:STANDARD
TZOFFSETFROM:+0200
TZOFFSETTO:+0100
TZNAME:CET
DTSTART:20241027T010000
END:STANDARD
BEGIN:DAYLIGHT
TZOFFSETFROM:+0100
TZOFFSETTO:+0200
TZNAME:CEST
DTSTART:20250330T010000
END:DAYLIGHT
BEGIN:STANDARD
TZOFFSETFROM:+0200
TZOFFSETTO:+0100
TZNAME:CET
DTSTART:20251026T010000
END:STANDARD
END:VTIMEZONE
BEGIN:VEVENT
DTSTART;TZID=Europe/Berlin:20240427T160000
DTEND;TZID=Europe/Berlin:20240427T190000
DTSTAMP:20260422T001610
CREATED:20231228T100833Z
LAST-MODIFIED:20240421T064945Z
UID:1727-1714233600-1714244400@www.ogv-moetzingen.de
SUMMARY:Blütenwanderung
DESCRIPTION:Liebe Mitglieder und Freunde des Vereins\,\n\nam Samstag den 27. April findet unsere Blütenwanderung durch die Mötzinger Streuobstwiesen statt.\n\nBeginn ist um 16 Uhr.\nTreffpunkt ist wie gewohnt Ecke Mühlstraße – Hauptweg.\nDie Führung wird in diesem Jahr Jochen Angster zusammen mit Jürgen Haarer leiten.\nNach ca. 1 – 1\,5h Wanderung werden wir den Abschluss im Vereinsgarten (alte Kläranlage) machen.\nDort wird es dann einen kleinen Umtrunk geben und Rote Wurst vom Grill. \nAnmeldungen benötigt es im Voraus keine. \n\nWir Freuen uns auf Euer kommen!
URL:https://www.ogv-moetzingen.de/ogv/event/bluetenwanderung/
END:VEVENT
END:VCALENDAR