BEGIN:VCALENDAR
VERSION:2.0
PRODID:-//OGV Mötzingen - ECPv6.15.20//NONSGML v1.0//EN
CALSCALE:GREGORIAN
METHOD:PUBLISH
X-WR-CALNAME:OGV Mötzingen
X-ORIGINAL-URL:https://www.ogv-moetzingen.de/ogv
X-WR-CALDESC:Veranstaltungen für OGV Mötzingen
REFRESH-INTERVAL;VALUE=DURATION:PT1H
X-Robots-Tag:noindex
X-PUBLISHED-TTL:PT1H
BEGIN:VTIMEZONE
TZID:Europe/Berlin
BEGIN:DAYLIGHT
TZOFFSETFROM:+0100
TZOFFSETTO:+0200
TZNAME:CEST
DTSTART:20240331T010000
END:DAYLIGHT
BEGIN:STANDARD
TZOFFSETFROM:+0200
TZOFFSETTO:+0100
TZNAME:CET
DTSTART:20241027T010000
END:STANDARD
BEGIN:DAYLIGHT
TZOFFSETFROM:+0100
TZOFFSETTO:+0200
TZNAME:CEST
DTSTART:20250330T010000
END:DAYLIGHT
BEGIN:STANDARD
TZOFFSETFROM:+0200
TZOFFSETTO:+0100
TZNAME:CET
DTSTART:20251026T010000
END:STANDARD
BEGIN:DAYLIGHT
TZOFFSETFROM:+0100
TZOFFSETTO:+0200
TZNAME:CEST
DTSTART:20260329T010000
END:DAYLIGHT
BEGIN:STANDARD
TZOFFSETFROM:+0200
TZOFFSETTO:+0100
TZNAME:CET
DTSTART:20261025T010000
END:STANDARD
END:VTIMEZONE
BEGIN:VEVENT
DTSTART;TZID=Europe/Berlin:20250208T140000
DTEND;TZID=Europe/Berlin:20250208T170000
DTSTAMP:20260421T090632
CREATED:20250206T055836Z
LAST-MODIFIED:20250206T055836Z
UID:2081-1739023200-1739034000@www.ogv-moetzingen.de
SUMMARY:Schnittkurs am Obstbaum 8. Februar
DESCRIPTION:Liebe Mitglieder und Freunde des Vereins\,\n\n\nhiermit möchten wie Sie zum Schnittkurs mit Referent Ralf Reuschling am Samstag\, den 08. Februar\, herzlich einladen.\nDer Schnittkurs ist für Mitglieder kostenlos. Nicht-Mitglieder zahlen wie gewohnt eine Teilnahmegebühr von 5 Euro.\nDer Schnittkurs findet im Vereinsgarten statt (alte Kläranlage in Mötzingen).\nBitte bringen Sie entsprechendes Schneidewerkzeug mit. Anmeldungen werden im Voraus nicht benötigt.\nFür eine kleine Verpflegung vor Ort ist gesorgt.\n\nWir freuen uns auf Euer Kommen!\n\nBeginn: 14 Uhr\n\nBeste Grüße\nOGV Mötzingen
URL:https://www.ogv-moetzingen.de/ogv/event/schnittkurs-am-obstbaum-8-februar/
END:VEVENT
BEGIN:VEVENT
DTSTART;TZID=Europe/Berlin:20250215T190000
DTEND;TZID=Europe/Berlin:20250215T213000
DTSTAMP:20260421T090632
CREATED:20250206T060031Z
LAST-MODIFIED:20250206T060031Z
UID:2083-1739646000-1739655000@www.ogv-moetzingen.de
SUMMARY:Hauptversammlung 15. Februar
DESCRIPTION:Liebe Mitglieder und Freunde des Vereins\,\n\nunsere Jahreshauptversammlung findet am Samstag\, 15. Februar 2025 um 19.00 Uhr im Gasthaus Hirsch in Mötzingen statt.\nHierzu möchten wir Sie Herzlich einladen\n\nTagesordnung:\n\n1. Begrüßung und Bekanntgabe der Tagesordnung\n2. Totengedenken\n3. Berichte\n     – 1. Vorsitzender\n     – Schriftführer\n     – Kassierer\n     – Kassenprüfer\n4. Entlastungen\n5. Wahlen\n     – 1. Vorsitzender\n     – Kassierer\n     – Beisitzer\n     – Kassenprüfer\n6. Verschiedenes\n7. Vorschau auf 2025\n\nIm Anschluss gibt es  einen Vortrag vom Dozenten Ralf Reuschling (Fachagrarwirt für Baumpflege).\nAnträge und Wünsche können bis zum 01.02 beim ersten Vorsitzenden Jürgen Haarer eingereicht werden.\nAlle Mitglieder\, Freunde und Interessierte des Vereins sind herzlich eingeladen.\n\nBeste Grüße\nOGV-Mötzingen
URL:https://www.ogv-moetzingen.de/ogv/event/hauptversammlung-15-februar/
END:VEVENT
BEGIN:VEVENT
DTSTART;TZID=Europe/Berlin:20250222T080000
DTEND;TZID=Europe/Berlin:20250222T170000
DTSTAMP:20260421T090632
CREATED:20250206T060224Z
LAST-MODIFIED:20250209T170023Z
UID:2085-1740211200-1740243600@www.ogv-moetzingen.de
SUMMARY:Hausgartenschnittkurs am 22. Februar
DESCRIPTION:Der Schnittkurs findet im Garten der Familie Krohmer\, Kaisersgartenstr.2/2 statt.\nBeginn ist um 14 Uhr
URL:https://www.ogv-moetzingen.de/ogv/event/hausgartenschnittkurs-am-22-februar/
END:VEVENT
END:VCALENDAR