BEGIN:VCALENDAR
VERSION:2.0
PRODID:-//OGV Mötzingen - ECPv6.15.20//NONSGML v1.0//EN
CALSCALE:GREGORIAN
METHOD:PUBLISH
X-ORIGINAL-URL:https://www.ogv-moetzingen.de/ogv
X-WR-CALDESC:Veranstaltungen für OGV Mötzingen
REFRESH-INTERVAL;VALUE=DURATION:PT1H
X-Robots-Tag:noindex
X-PUBLISHED-TTL:PT1H
BEGIN:VTIMEZONE
TZID:Europe/Berlin
BEGIN:DAYLIGHT
TZOFFSETFROM:+0100
TZOFFSETTO:+0200
TZNAME:CEST
DTSTART:20250330T010000
END:DAYLIGHT
BEGIN:STANDARD
TZOFFSETFROM:+0200
TZOFFSETTO:+0100
TZNAME:CET
DTSTART:20251026T010000
END:STANDARD
BEGIN:DAYLIGHT
TZOFFSETFROM:+0100
TZOFFSETTO:+0200
TZNAME:CEST
DTSTART:20260329T010000
END:DAYLIGHT
BEGIN:STANDARD
TZOFFSETFROM:+0200
TZOFFSETTO:+0100
TZNAME:CET
DTSTART:20261025T010000
END:STANDARD
BEGIN:DAYLIGHT
TZOFFSETFROM:+0100
TZOFFSETTO:+0200
TZNAME:CEST
DTSTART:20270328T010000
END:DAYLIGHT
BEGIN:STANDARD
TZOFFSETFROM:+0200
TZOFFSETTO:+0100
TZNAME:CET
DTSTART:20271031T010000
END:STANDARD
END:VTIMEZONE
BEGIN:VEVENT
DTSTART;TZID=Europe/Berlin:20260207T190000
DTEND;TZID=Europe/Berlin:20260207T220000
DTSTAMP:20260421T104852
CREATED:20260102T131702Z
LAST-MODIFIED:20260117T133159Z
UID:2231-1770490800-1770501600@www.ogv-moetzingen.de
SUMMARY:Jahreshauptversammlung im Gasthaus Hirsch
DESCRIPTION:Die Hauptversammlung findet am 07. Februar um 19 Uhr im Gasthaus Hirsch in Mötzingen statt.\n\n\nTagesordnung:\n\n1. Begrüßung und Bekanntgabe der Tagesordnung\n\n2. Berichte\n\n 1. Vorsitzender\n\n 2. Schriftführer\n\n 3. Kassier\n\n 4. Kassenprüfer\n\n3. Entlastungen\n\n4. Wahlen\n\n – Schriftführer\n\n – Beisitzer\n\n5. Verschiedenes\n\n6. Anträge u. Wünsche\n\n7. Vorschau auf 2026\n\n8. Vortrag Schafbeweidung Robin Maurer\n\nAnträge und Wünsche können bis zum 1. Februar beim 1. Vorsitzenden Jürgen Haarer eingereicht werden.\n\nWir freuen uns auf Euer Kommen!
URL:https://www.ogv-moetzingen.de/ogv/event/jahreshauptversammlung-im-gasthaus-hirsch/
END:VEVENT
BEGIN:VEVENT
DTSTART;TZID=Europe/Berlin:20260228T140000
DTEND;TZID=Europe/Berlin:20260228T170000
DTSTAMP:20260421T104852
CREATED:20260102T131746Z
LAST-MODIFIED:20260215T083132Z
UID:2233-1772287200-1772298000@www.ogv-moetzingen.de
SUMMARY:Schnittkurs im Hausgarten mit Gisela Büsing
DESCRIPTION:Liebe Mitglieder und Freunde des Vereins\,\n\nam Samstag den 28. Februar findet unser Schnittkurs im Hausgarten statt!\nBeginn ist um 14 Uhr im Allemannenweg 15 in Mötzingen.\n\nDer Kurs wird von Gisela Büsing geleitet (Gartenbautechnikerin Pflanzen Hiller)\nFür den Kurs benötigt es keine Anmeldungen im voraus. Der Kurs ist für Mitglieder kostenlos.
URL:https://www.ogv-moetzingen.de/ogv/event/schnittkurs-im-hausgarten-mit-gisela-buesing/
END:VEVENT
END:VCALENDAR